BEGIN:VCALENDAR
VERSION:2.0
PRODID:-//eZPublish//EN
METHOD:REQUEST
BEGIN:VEVENT
UID:8859@apa.org.ar
DTSTART:20251205T183000Z
DTEND:20251205T200000Z
DTSTAMP:20251204T121903Z
URL:https://www.apa.org.ar/Eventos/El-archivo-como-puente-para-la-reconstruccion-de-la-memoria
SUMMARY:El archivo como puente para la reconstrucción de 
la memoria
LOCATION:
END:VEVENT
END:VCALENDAR