BEGIN:VCALENDAR
VERSION:2.0
PRODID:-//eZPublish//EN
METHOD:REQUEST
BEGIN:VEVENT
UID:8884@apa.org.ar
DTSTART:20260310T231500Z
DTEND:20260311T010000Z
DTSTAMP:20260227T135129Z
URL:https://www.apa.org.ar/Eventos/Que-mujer-hoy
SUMMARY:¿Qué mujer hoy?
LOCATION:
END:VEVENT
END:VCALENDAR