BEGIN:VCALENDAR
VERSION:2.0
PRODID:-//eZPublish//EN
METHOD:REQUEST
BEGIN:VEVENT
UID:8967@apa.org.ar
DTSTART:20260507T230000Z
DTEND:20260508T003000Z
DTSTAMP:20260417T163824Z
URL:https://www.apa.org.ar/Eventos/El-texto-freudiano-en-la-clinica-actual
SUMMARY:El texto freudiano en la clínica actual
LOCATION:
END:VEVENT
END:VCALENDAR