BEGIN:VCALENDAR
VERSION:2.0
PRODID:-//eZPublish//EN
METHOD:REQUEST
BEGIN:VEVENT
UID:8970@apa.org.ar
DTSTART:20260626T120000Z
DTEND:20260627T170000Z
DTSTAMP:20260420T172500Z
URL:https://www.apa.org.ar/Eventos/Jornadas-Depresiones-en-nuestro-tiempo
SUMMARY:Jornadas Depresiones en nuestro tiempo
LOCATION:
END:VEVENT
END:VCALENDAR