BEGIN:VCALENDAR
VERSION:2.0
PRODID:-//eZPublish//EN
METHOD:REQUEST
BEGIN:VEVENT
UID:8978@apa.org.ar
DTSTART:20260428T120000Z
DTEND:20260428T133000Z
DTSTAMP:20260423T150458Z
URL:https://www.apa.org.ar/Eventos/Psicopatia-Perversion-Crueldad-e-Impunidad-hoy
SUMMARY:Psicopatía, Perversión, Crueldad e Impunidad hoy
LOCATION:
END:VEVENT
END:VCALENDAR