BEGIN:VCALENDAR
VERSION:2.0
PRODID:-//eZPublish//EN
METHOD:REQUEST
BEGIN:VEVENT
UID:8979@apa.org.ar
DTSTART:20260428T140000Z
DTEND:20260428T153000Z
DTSTAMP:20260423T151908Z
URL:https://www.apa.org.ar/Eventos/Clinica-de-autor7
SUMMARY:Clínica de autor
LOCATION:
END:VEVENT
END:VCALENDAR