BEGIN:VCALENDAR
VERSION:2.0
PRODID:-//eZPublish//EN
METHOD:REQUEST
BEGIN:VEVENT
UID:8984@apa.org.ar
DTSTART:20260428T160000Z
DTEND:20260428T173000Z
DTSTAMP:20260423T170446Z
URL:https://www.apa.org.ar/Eventos/Ejercicio-clinico-practica-de-lectura-y-escucha
SUMMARY:Ejercicio clínico: práctica de lectura y escucha
LOCATION:
END:VEVENT
END:VCALENDAR