BEGIN:VCALENDAR
VERSION:2.0
PRODID:-//eZPublish//EN
METHOD:REQUEST
BEGIN:VEVENT
UID:8986@apa.org.ar
DTSTART:20260428T160000Z
DTEND:20260428T173000Z
DTSTAMP:20260423T181531Z
URL:https://www.apa.org.ar/Eventos/La-direccion-del-tratamiento-en-el-Autismo-primario-y-secundario
SUMMARY:La dirección del tratamiento en el Autismo primar
io y secundario
LOCATION:
END:VEVENT
END:VCALENDAR