BEGIN:VCALENDAR
VERSION:2.0
PRODID:-//eZPublish//EN
METHOD:REQUEST
BEGIN:VEVENT
UID:937@apa.org.ar
DTSTART:20191028T160000Z
DTEND:20191028T180000Z
DTSTAMP:20190719T000339Z
URL:https://www.apa.org.ar/Eventos/Supervision-con-miembros
SUMMARY:Supervisión con miembros
LOCATION:APdeBA, Maure 1850, CABA, Argentina
END:VEVENT
END:VCALENDAR